BEGIN:VCALENDAR
VERSION:2.0
PRODID:-//phil.firespring.org//NONSGML kigkonsult.se iCalcreator 2.30.10//
CALSCALE:GREGORIAN
METHOD:PUBLISH
UID:3bb78ad7-826b-4754-b58c-56689f6d2a81
X-WR-CALDESC:Please bring drinking water
X-WR-RELCALID:2cdfa9328a69e5468fe70b5e14f8ceae
X-WR-TIMEZONE:America/Chicago
BEGIN:VTIMEZONE
TZID:America/Chicago
BEGIN:STANDARD
TZNAME:CST
DTSTART:20251102T020000
TZOFFSETFROM:-0500
TZOFFSETTO:-0600
RDATE:20261101T020000
RDATE:20271107T020000
END:STANDARD
BEGIN:DAYLIGHT
TZNAME:CDT
DTSTART:20260308T020000
TZOFFSETFROM:-0600
TZOFFSETTO:-0500
RDATE:20270314T020000
RDATE:20280312T020000
END:DAYLIGHT
END:VTIMEZONE
BEGIN:VEVENT
UID:b500381b-860d-4b8a-b590-6d233f91b5cd
DTSTAMP:20260421T153025Z
DESCRIPTION:Please bring drinking water
DTSTART;TZID=America/Chicago:20261008T160000
DTEND;TZID=America/Chicago:20261008T170000
LOCATION:Firespring
SUMMARY:Walking Group
END:VEVENT
END:VCALENDAR
