BEGIN:VCALENDAR
VERSION:2.0
PRODID:-//phil.firespring.org//NONSGML kigkonsult.se iCalcreator 2.30.10//
CALSCALE:GREGORIAN
METHOD:PUBLISH
UID:da4a844b-53ad-4ae8-adb3-49ec7ff494bf
X-WR-CALDESC:Please bring drinking water
X-WR-RELCALID:5869eb721f5b02ed75fb522bc1979b4b
X-WR-TIMEZONE:America/Chicago
BEGIN:VTIMEZONE
TZID:America/Chicago
BEGIN:STANDARD
TZNAME:CST
DTSTART:20251102T020000
TZOFFSETFROM:-0500
TZOFFSETTO:-0600
RDATE:20261101T020000
RDATE:20271107T020000
END:STANDARD
BEGIN:DAYLIGHT
TZNAME:CDT
DTSTART:20260308T020000
TZOFFSETFROM:-0600
TZOFFSETTO:-0500
RDATE:20270314T020000
RDATE:20280312T020000
END:DAYLIGHT
END:VTIMEZONE
BEGIN:VEVENT
UID:dfa05f06-da40-4cd1-825a-7494d58fae41
DTSTAMP:20260421T153127Z
DESCRIPTION:Please bring drinking water
DTSTART;TZID=America/Chicago:20261029T160000
DTEND;TZID=America/Chicago:20261029T170000
LOCATION:Firespring
SUMMARY:Walking Group
END:VEVENT
END:VCALENDAR
