BEGIN:VCALENDAR
VERSION:2.0
PRODID:-//phil.firespring.org//NONSGML kigkonsult.se iCalcreator 2.30.10//
CALSCALE:GREGORIAN
METHOD:PUBLISH
UID:842dc42d-7af9-4c49-8849-3050b8eb1958
X-WR-CALDESC:Please bring drinking water
X-WR-RELCALID:7346d7f88b7cc57ef872425ec780c873
X-WR-TIMEZONE:America/Chicago
BEGIN:VTIMEZONE
TZID:America/Chicago
BEGIN:STANDARD
TZNAME:CST
DTSTART:20261101T020000
TZOFFSETFROM:-0500
TZOFFSETTO:-0600
RDATE:20271107T020000
END:STANDARD
BEGIN:DAYLIGHT
TZNAME:CDT
DTSTART:20260308T020000
TZOFFSETFROM:-0600
TZOFFSETTO:-0500
RDATE:20270314T020000
RDATE:20280312T020000
END:DAYLIGHT
END:VTIMEZONE
BEGIN:VEVENT
UID:c40f0d53-8ca4-40f6-b64f-e932f6d54277
DTSTAMP:20260421T164619Z
DESCRIPTION:Please bring drinking water
DTSTART;TZID=America/Chicago:20261112T160000
DTEND;TZID=America/Chicago:20261112T170000
LOCATION:Firespring
SUMMARY:Walking Group
END:VEVENT
END:VCALENDAR
