BEGIN:VCALENDAR
VERSION:2.0
PRODID:-//phil.firespring.org//NONSGML kigkonsult.se iCalcreator 2.30.10//
CALSCALE:GREGORIAN
METHOD:PUBLISH
UID:00b267f3-32c1-49bf-883d-52107074d95c
X-WR-CALDESC:Please bring drinking water
X-WR-RELCALID:4c27c64961dea2e55adac90265c3459c
X-WR-TIMEZONE:America/Chicago
BEGIN:VTIMEZONE
TZID:America/Chicago
BEGIN:STANDARD
TZNAME:CST
DTSTART:20261101T020000
TZOFFSETFROM:-0500
TZOFFSETTO:-0600
RDATE:20271107T020000
END:STANDARD
BEGIN:DAYLIGHT
TZNAME:CDT
DTSTART:20260308T020000
TZOFFSETFROM:-0600
TZOFFSETTO:-0500
RDATE:20270314T020000
RDATE:20280312T020000
END:DAYLIGHT
END:VTIMEZONE
BEGIN:VEVENT
UID:8f0d96cc-8847-457d-9b65-b468b1063b5e
DTSTAMP:20260421T164717Z
DESCRIPTION:Please bring drinking water
DTSTART;TZID=America/Chicago:20261119T160000
DTEND;TZID=America/Chicago:20261119T170000
LOCATION:Firespring
SUMMARY:Walking Group
END:VEVENT
END:VCALENDAR
