BEGIN:VCALENDAR
VERSION:2.0
PRODID:-//phil.firespring.org//NONSGML kigkonsult.se iCalcreator 2.30.10//
CALSCALE:GREGORIAN
METHOD:PUBLISH
UID:9b62f8db-e202-494c-94a7-98893cf56acd
X-WR-CALDESC:Please bring drinking water
X-WR-RELCALID:2dc20925912e048fd8a55747bc8eb08a
X-WR-TIMEZONE:America/Chicago
BEGIN:VTIMEZONE
TZID:America/Chicago
BEGIN:STANDARD
TZNAME:CST
DTSTART:20261101T020000
TZOFFSETFROM:-0500
TZOFFSETTO:-0600
RDATE:20271107T020000
END:STANDARD
BEGIN:DAYLIGHT
TZNAME:CDT
DTSTART:20260308T020000
TZOFFSETFROM:-0600
TZOFFSETTO:-0500
RDATE:20270314T020000
RDATE:20280312T020000
END:DAYLIGHT
END:VTIMEZONE
BEGIN:VEVENT
UID:aa21d011-ee84-41d5-bf31-d1d0508cec6c
DTSTAMP:20260421T164744Z
DESCRIPTION:Please bring drinking water
DTSTART;TZID=America/Chicago:20261126T160000
DTEND;TZID=America/Chicago:20261126T170000
LOCATION:Firespring
SUMMARY:Walking Group
END:VEVENT
END:VCALENDAR
