BEGIN:VCALENDAR
VERSION:2.0
PRODID:-//phil.firespring.org//NONSGML kigkonsult.se iCalcreator 2.30.10//
CALSCALE:GREGORIAN
METHOD:PUBLISH
UID:9453897b-cbe2-419e-8af1-16918913b7e3
X-WR-CALDESC:Please bring drinking water
X-WR-RELCALID:d5aea5714a49bc8293e7ba87516a15f4
X-WR-TIMEZONE:America/Chicago
BEGIN:VTIMEZONE
TZID:America/Chicago
BEGIN:STANDARD
TZNAME:CST
DTSTART:20261101T020000
TZOFFSETFROM:-0500
TZOFFSETTO:-0600
RDATE:20271107T020000
END:STANDARD
BEGIN:DAYLIGHT
TZNAME:CDT
DTSTART:20260308T020000
TZOFFSETFROM:-0600
TZOFFSETTO:-0500
RDATE:20270314T020000
RDATE:20280312T020000
END:DAYLIGHT
END:VTIMEZONE
BEGIN:VEVENT
UID:eab97e63-0a16-4555-8bec-131464820a8c
DTSTAMP:20260421T180903Z
DESCRIPTION:Please bring drinking water
DTSTART;TZID=America/Chicago:20261203T160000
DTEND;TZID=America/Chicago:20261203T170000
LOCATION:Firespring
SUMMARY:Walking Group
END:VEVENT
END:VCALENDAR
