BEGIN:VCALENDAR
VERSION:2.0
PRODID:-//phil.firespring.org//NONSGML kigkonsult.se iCalcreator 2.30.10//
CALSCALE:GREGORIAN
METHOD:PUBLISH
UID:44bb40cc-5587-47e9-8632-643d8276f95e
X-WR-CALDESC:Please bring drinking water
X-WR-RELCALID:daea11bf55154bf4525b0c7b10c05219
X-WR-TIMEZONE:America/Chicago
BEGIN:VTIMEZONE
TZID:America/Chicago
BEGIN:STANDARD
TZNAME:CST
DTSTART:20261101T020000
TZOFFSETFROM:-0500
TZOFFSETTO:-0600
RDATE:20271107T020000
END:STANDARD
BEGIN:DAYLIGHT
TZNAME:CDT
DTSTART:20260308T020000
TZOFFSETFROM:-0600
TZOFFSETTO:-0500
RDATE:20270314T020000
RDATE:20280312T020000
END:DAYLIGHT
END:VTIMEZONE
BEGIN:VEVENT
UID:305bbe1b-c93b-4782-8858-abe928967585
DTSTAMP:20260421T181043Z
DESCRIPTION:Please bring drinking water
DTSTART;TZID=America/Chicago:20261210T160000
DTEND;TZID=America/Chicago:20261210T170000
LOCATION:Firespring
SUMMARY:Walking Group
END:VEVENT
END:VCALENDAR
