BEGIN:VCALENDAR
VERSION:2.0
PRODID:-//phil.firespring.org//NONSGML kigkonsult.se iCalcreator 2.30.10//
CALSCALE:GREGORIAN
METHOD:PUBLISH
UID:6aa37573-a51f-46f6-badf-64967ee0da55
X-WR-CALDESC:Please bring drinking water
X-WR-RELCALID:af07644bcb64f332fbb1c676eb91e8c5
X-WR-TIMEZONE:America/Chicago
BEGIN:VTIMEZONE
TZID:America/Chicago
BEGIN:STANDARD
TZNAME:CST
DTSTART:20261101T020000
TZOFFSETFROM:-0500
TZOFFSETTO:-0600
RDATE:20271107T020000
END:STANDARD
BEGIN:DAYLIGHT
TZNAME:CDT
DTSTART:20260308T020000
TZOFFSETFROM:-0600
TZOFFSETTO:-0500
RDATE:20270314T020000
RDATE:20280312T020000
END:DAYLIGHT
END:VTIMEZONE
BEGIN:VEVENT
UID:56305282-de5c-4c1e-b062-a6141f9d76ed
DTSTAMP:20260421T181021Z
DESCRIPTION:Please bring drinking water
DTSTART;TZID=America/Chicago:20261217T160000
DTEND;TZID=America/Chicago:20261217T170000
LOCATION:Firespring
SUMMARY:Walking Group
END:VEVENT
END:VCALENDAR
