BEGIN:VCALENDAR
VERSION:2.0
PRODID:-//phil.firespring.org//NONSGML kigkonsult.se iCalcreator 2.30.10//
CALSCALE:GREGORIAN
METHOD:PUBLISH
UID:123f220b-66fc-4d98-bcd0-1cbc39be4c09
X-WR-CALDESC:Please bring drinking water
X-WR-RELCALID:9d253d6f0973bb3fcd5d83e3ef11fc31
X-WR-TIMEZONE:America/Chicago
BEGIN:VTIMEZONE
TZID:America/Chicago
BEGIN:STANDARD
TZNAME:CST
DTSTART:20261101T020000
TZOFFSETFROM:-0500
TZOFFSETTO:-0600
RDATE:20271107T020000
END:STANDARD
BEGIN:DAYLIGHT
TZNAME:CDT
DTSTART:20260308T020000
TZOFFSETFROM:-0600
TZOFFSETTO:-0500
RDATE:20270314T020000
RDATE:20280312T020000
END:DAYLIGHT
END:VTIMEZONE
BEGIN:VEVENT
UID:4cc78390-8109-4eba-83f9-f0f8d9b9add6
DTSTAMP:20260421T195713Z
DESCRIPTION:Please bring drinking water
DTSTART;TZID=America/Chicago:20270114T160000
DTEND;TZID=America/Chicago:20270114T170000
LOCATION:Firespring
SUMMARY:Walking Group
END:VEVENT
END:VCALENDAR
