BEGIN:VCALENDAR
VERSION:2.0
PRODID:-//phil.firespring.org//NONSGML kigkonsult.se iCalcreator 2.30.10//
CALSCALE:GREGORIAN
METHOD:PUBLISH
UID:a0b390c5-abb0-4a61-9723-148eb938115d
X-WR-CALDESC:Please bring drinking water
X-WR-RELCALID:fa223375e1edd682017cf7bc71623108
X-WR-TIMEZONE:America/Chicago
BEGIN:VTIMEZONE
TZID:America/Chicago
BEGIN:STANDARD
TZNAME:CST
DTSTART:20261101T020000
TZOFFSETFROM:-0500
TZOFFSETTO:-0600
RDATE:20271107T020000
END:STANDARD
BEGIN:DAYLIGHT
TZNAME:CDT
DTSTART:20260308T020000
TZOFFSETFROM:-0600
TZOFFSETTO:-0500
RDATE:20270314T020000
RDATE:20280312T020000
END:DAYLIGHT
END:VTIMEZONE
BEGIN:VEVENT
UID:355433bd-8db9-4f8b-8031-238ba5f06e3f
DTSTAMP:20260421T193008Z
DESCRIPTION:Please bring drinking water
DTSTART;TZID=America/Chicago:20270121T160000
DTEND;TZID=America/Chicago:20270121T170000
LOCATION:Firespring
SUMMARY:Walking Group
END:VEVENT
END:VCALENDAR
