BEGIN:VCALENDAR
VERSION:2.0
PRODID:-//phil.firespring.org//NONSGML kigkonsult.se iCalcreator 2.30.10//
CALSCALE:GREGORIAN
METHOD:PUBLISH
UID:79a0e83e-3acb-4e1f-ad2f-e76b9d6f97ff
X-WR-CALDESC:Please bring drinking water
X-WR-RELCALID:96c558d2888058553cb080bb3964debe
X-WR-TIMEZONE:America/Chicago
BEGIN:VTIMEZONE
TZID:America/Chicago
BEGIN:STANDARD
TZNAME:CST
DTSTART:20261101T020000
TZOFFSETFROM:-0500
TZOFFSETTO:-0600
RDATE:20271107T020000
END:STANDARD
BEGIN:DAYLIGHT
TZNAME:CDT
DTSTART:20260308T020000
TZOFFSETFROM:-0600
TZOFFSETTO:-0500
RDATE:20270314T020000
RDATE:20280312T020000
END:DAYLIGHT
END:VTIMEZONE
BEGIN:VEVENT
UID:5a6e3a2a-4a29-43d5-8b30-92b6011ee5d6
DTSTAMP:20260421T195101Z
DESCRIPTION:Please bring drinking water
DTSTART;TZID=America/Chicago:20270128T160000
DTEND;TZID=America/Chicago:20270128T170000
LOCATION:Firespring
SUMMARY:Walking Group
END:VEVENT
END:VCALENDAR
