BEGIN:VCALENDAR
VERSION:2.0
PRODID:-//phil.firespring.org//NONSGML kigkonsult.se iCalcreator 2.30.10//
CALSCALE:GREGORIAN
METHOD:PUBLISH
UID:a4841e36-ac2f-446a-9e3b-7b3085b7172a
X-WR-CALDESC:Please bring drinking water
X-WR-RELCALID:951d6d8174e805d047f6fd587c281519
X-WR-TIMEZONE:America/Chicago
BEGIN:VTIMEZONE
TZID:America/Chicago
BEGIN:STANDARD
TZNAME:CST
DTSTART:20261101T020000
TZOFFSETFROM:-0500
TZOFFSETTO:-0600
RDATE:20271107T020000
END:STANDARD
BEGIN:DAYLIGHT
TZNAME:CDT
DTSTART:20260308T020000
TZOFFSETFROM:-0600
TZOFFSETTO:-0500
RDATE:20270314T020000
RDATE:20280312T020000
END:DAYLIGHT
END:VTIMEZONE
BEGIN:VEVENT
UID:a3fb8745-2b71-4294-9c38-075e78bb90bf
DTSTAMP:20260421T210337Z
DESCRIPTION:Please bring drinking water
DTSTART;TZID=America/Chicago:20270204T160000
DTEND;TZID=America/Chicago:20270204T170000
LOCATION:Firespring
SUMMARY:Walking Group
END:VEVENT
END:VCALENDAR
