BEGIN:VCALENDAR
VERSION:2.0
PRODID:-//phil.firespring.org//NONSGML kigkonsult.se iCalcreator 2.30.10//
CALSCALE:GREGORIAN
METHOD:PUBLISH
UID:1e6713ea-26ae-4f13-a9b8-ef9c0e9a43c5
X-WR-CALDESC:Please bring drinking water
X-WR-RELCALID:024b23a07290cd219980fc00e2c0cd41
X-WR-TIMEZONE:America/Chicago
BEGIN:VTIMEZONE
TZID:America/Chicago
BEGIN:STANDARD
TZNAME:CST
DTSTART:20261101T020000
TZOFFSETFROM:-0500
TZOFFSETTO:-0600
RDATE:20271107T020000
END:STANDARD
BEGIN:DAYLIGHT
TZNAME:CDT
DTSTART:20260308T020000
TZOFFSETFROM:-0600
TZOFFSETTO:-0500
RDATE:20270314T020000
RDATE:20280312T020000
END:DAYLIGHT
END:VTIMEZONE
BEGIN:VEVENT
UID:3ead0d2b-6f20-4a55-b5fc-df9166feba85
DTSTAMP:20260421T213653Z
DESCRIPTION:Please bring drinking water
DTSTART;TZID=America/Chicago:20270211T160000
DTEND;TZID=America/Chicago:20270211T170000
LOCATION:Firespring
SUMMARY:Walking Group
END:VEVENT
END:VCALENDAR
