BEGIN:VCALENDAR
VERSION:2.0
PRODID:-//phil.firespring.org//NONSGML kigkonsult.se iCalcreator 2.30.10//
CALSCALE:GREGORIAN
METHOD:PUBLISH
UID:93e0e3e8-790b-4d4d-873f-bd3df38263cf
X-WR-CALDESC:Please bring drinking water
X-WR-RELCALID:abb9adcc00065d34c33917b4bd295888
X-WR-TIMEZONE:America/Chicago
BEGIN:VTIMEZONE
TZID:America/Chicago
BEGIN:STANDARD
TZNAME:CST
DTSTART:20261101T020000
TZOFFSETFROM:-0500
TZOFFSETTO:-0600
RDATE:20271107T020000
END:STANDARD
BEGIN:DAYLIGHT
TZNAME:CDT
DTSTART:20260308T020000
TZOFFSETFROM:-0600
TZOFFSETTO:-0500
RDATE:20270314T020000
RDATE:20280312T020000
END:DAYLIGHT
END:VTIMEZONE
BEGIN:VEVENT
UID:ffd1d956-002e-4506-9a9d-597b45216625
DTSTAMP:20260421T211535Z
DESCRIPTION:Please bring drinking water
DTSTART;TZID=America/Chicago:20270218T160000
DTEND;TZID=America/Chicago:20270218T170000
LOCATION:Firespring
SUMMARY:Walking Group
END:VEVENT
END:VCALENDAR
