BEGIN:VCALENDAR
VERSION:2.0
PRODID:-//phil.firespring.org//NONSGML kigkonsult.se iCalcreator 2.30.10//
CALSCALE:GREGORIAN
METHOD:PUBLISH
UID:74da68ad-9aaa-42e0-9ec5-6dec0a4e38d5
X-WR-CALDESC:Please bring drinking water
X-WR-RELCALID:6e3e4f65b263073eb087e8c2f6e06d1a
X-WR-TIMEZONE:America/Chicago
BEGIN:VTIMEZONE
TZID:America/Chicago
BEGIN:STANDARD
TZNAME:CST
DTSTART:20261101T020000
TZOFFSETFROM:-0500
TZOFFSETTO:-0600
RDATE:20271107T020000
END:STANDARD
BEGIN:DAYLIGHT
TZNAME:CDT
DTSTART:20270314T020000
TZOFFSETFROM:-0600
TZOFFSETTO:-0500
RDATE:20280312T020000
END:DAYLIGHT
END:VTIMEZONE
BEGIN:VEVENT
UID:7fde7b74-a981-4173-a723-43e64e1f1eed
DTSTAMP:20260421T224542Z
DESCRIPTION:Please bring drinking water
DTSTART;TZID=America/Chicago:20270311T160000
DTEND;TZID=America/Chicago:20270311T170000
LOCATION:Firespring
SUMMARY:Walking Group
END:VEVENT
END:VCALENDAR
