BEGIN:VCALENDAR
VERSION:2.0
PRODID:-//phil.firespring.org//NONSGML kigkonsult.se iCalcreator 2.30.10//
CALSCALE:GREGORIAN
METHOD:PUBLISH
UID:b8576259-8e33-4709-b389-3148281d853c
X-WR-CALDESC:Please bring drinking water
X-WR-RELCALID:b4528820d66d17707d0fc0f44ab7ffa2
X-WR-TIMEZONE:America/Chicago
BEGIN:VTIMEZONE
TZID:America/Chicago
BEGIN:STANDARD
TZNAME:CST
DTSTART:20261101T020000
TZOFFSETFROM:-0500
TZOFFSETTO:-0600
RDATE:20271107T020000
END:STANDARD
BEGIN:DAYLIGHT
TZNAME:CDT
DTSTART:20270314T020000
TZOFFSETFROM:-0600
TZOFFSETTO:-0500
RDATE:20280312T020000
END:DAYLIGHT
END:VTIMEZONE
BEGIN:VEVENT
UID:f7301805-7bb4-4dfd-8e3a-5d19c42205c5
DTSTAMP:20260421T225224Z
DESCRIPTION:Please bring drinking water
DTSTART;TZID=America/Chicago:20270318T160000
DTEND;TZID=America/Chicago:20270318T170000
LOCATION:Firespring
SUMMARY:Walking Group
END:VEVENT
END:VCALENDAR
