BEGIN:VCALENDAR
VERSION:2.0
PRODID:-//phil.firespring.org//NONSGML kigkonsult.se iCalcreator 2.30.10//
CALSCALE:GREGORIAN
METHOD:PUBLISH
UID:bc9e4c18-0762-4f52-a811-da00a17e8830
X-WR-CALDESC:Please bring drinking water
X-WR-RELCALID:c6a2b63978acd1b4f1a9485f2d694ee9
X-WR-TIMEZONE:America/Chicago
BEGIN:VTIMEZONE
TZID:America/Chicago
BEGIN:STANDARD
TZNAME:CST
DTSTART:20261101T020000
TZOFFSETFROM:-0500
TZOFFSETTO:-0600
RDATE:20271107T020000
END:STANDARD
BEGIN:DAYLIGHT
TZNAME:CDT
DTSTART:20270314T020000
TZOFFSETFROM:-0600
TZOFFSETTO:-0500
RDATE:20280312T020000
END:DAYLIGHT
END:VTIMEZONE
BEGIN:VEVENT
UID:6789aee4-e1b1-4666-a450-e1bb3a9c3b10
DTSTAMP:20260421T224907Z
DESCRIPTION:Please bring drinking water
DTSTART;TZID=America/Chicago:20270325T160000
DTEND;TZID=America/Chicago:20270325T170000
LOCATION:Firespring
SUMMARY:Walking Group
END:VEVENT
END:VCALENDAR
