BEGIN:VCALENDAR
VERSION:2.0
PRODID:-//phil.firespring.org//NONSGML kigkonsult.se iCalcreator 2.30.10//
CALSCALE:GREGORIAN
METHOD:PUBLISH
UID:fa33d64f-71d6-4a0d-8045-6086c91e951f
X-WR-CALDESC:Please bring drinking water
X-WR-RELCALID:7345bc6bbaf518dd1eacddf29aaf8511
X-WR-TIMEZONE:America/Chicago
BEGIN:VTIMEZONE
TZID:America/Chicago
BEGIN:STANDARD
TZNAME:CST
DTSTART:20261101T020000
TZOFFSETFROM:-0500
TZOFFSETTO:-0600
RDATE:20271107T020000
END:STANDARD
BEGIN:DAYLIGHT
TZNAME:CDT
DTSTART:20270314T020000
TZOFFSETFROM:-0600
TZOFFSETTO:-0500
RDATE:20280312T020000
END:DAYLIGHT
END:VTIMEZONE
BEGIN:VEVENT
UID:74c1bce0-975d-4175-95a1-656609d3aad7
DTSTAMP:20260422T004400Z
DESCRIPTION:Please bring drinking water
DTSTART;TZID=America/Chicago:20270401T160000
DTEND;TZID=America/Chicago:20270401T170000
LOCATION:Firespring
SUMMARY:Walking Group
END:VEVENT
END:VCALENDAR
