BEGIN:VCALENDAR
VERSION:2.0
PRODID:-//phil.firespring.org//NONSGML kigkonsult.se iCalcreator 2.30.10//
CALSCALE:GREGORIAN
METHOD:PUBLISH
UID:dfa1cbb4-153c-4f90-bc38-c99d1e98e1a0
X-WR-CALDESC:
X-WR-RELCALID:6c8b4ce33b76b2be39e19a29c0176f3e
X-WR-TIMEZONE:America/Chicago
BEGIN:VTIMEZONE
TZID:America/Chicago
BEGIN:STANDARD
TZNAME:CST
DTSTART:20261101T020000
TZOFFSETFROM:-0500
TZOFFSETTO:-0600
RDATE:20271107T020000
END:STANDARD
BEGIN:DAYLIGHT
TZNAME:CDT
DTSTART:20270314T020000
TZOFFSETFROM:-0600
TZOFFSETTO:-0500
RDATE:20280312T020000
END:DAYLIGHT
END:VTIMEZONE
BEGIN:VEVENT
UID:444940a0-f5b1-4e6f-bde4-9145f7e8cee9
DTSTAMP:20260422T003043Z
DESCRIPTION:
DTSTART;TZID=America/Chicago:20270415T133000
DTEND;TZID=America/Chicago:20270415T143000
LOCATION:
SUMMARY:Monthly Lunch
END:VEVENT
END:VCALENDAR
