BEGIN:VCALENDAR
VERSION:2.0
PRODID:-//phil.firespring.org//NONSGML kigkonsult.se iCalcreator 2.30.10//
CALSCALE:GREGORIAN
METHOD:PUBLISH
UID:d4f4b9ee-6285-40de-b1ca-d26cb932c1e7
X-WR-CALDESC:Please bring drinking water
X-WR-RELCALID:c9938a612ea74332cb18818b054ad4a9
X-WR-TIMEZONE:America/Chicago
BEGIN:VTIMEZONE
TZID:America/Chicago
BEGIN:STANDARD
TZNAME:CST
DTSTART:20261101T020000
TZOFFSETFROM:-0500
TZOFFSETTO:-0600
RDATE:20271107T020000
END:STANDARD
BEGIN:DAYLIGHT
TZNAME:CDT
DTSTART:20270314T020000
TZOFFSETFROM:-0600
TZOFFSETTO:-0500
RDATE:20280312T020000
END:DAYLIGHT
END:VTIMEZONE
BEGIN:VEVENT
UID:75f0af12-b63b-4aa6-b72d-6910cce878d0
DTSTAMP:20260422T002538Z
DESCRIPTION:Please bring drinking water
DTSTART;TZID=America/Chicago:20270422T160000
DTEND;TZID=America/Chicago:20270422T170000
LOCATION:Firespring
SUMMARY:Walking Group
END:VEVENT
END:VCALENDAR
