BEGIN:VCALENDAR
VERSION:2.0
PRODID:-//phil.firespring.org//NONSGML kigkonsult.se iCalcreator 2.30.10//
CALSCALE:GREGORIAN
METHOD:PUBLISH
UID:4de648e2-de33-4af0-87bc-02738333e877
X-WR-CALDESC:Please bring drinking water
X-WR-RELCALID:787c7b754d9a962e9bca9bef64a94416
X-WR-TIMEZONE:America/Chicago
BEGIN:VTIMEZONE
TZID:America/Chicago
BEGIN:STANDARD
TZNAME:CST
DTSTART:20261101T020000
TZOFFSETFROM:-0500
TZOFFSETTO:-0600
RDATE:20271107T020000
RDATE:20281105T020000
END:STANDARD
BEGIN:DAYLIGHT
TZNAME:CDT
DTSTART:20270314T020000
TZOFFSETFROM:-0600
TZOFFSETTO:-0500
RDATE:20280312T020000
END:DAYLIGHT
END:VTIMEZONE
BEGIN:VEVENT
UID:187951db-fcf9-4e39-9e48-9b97a6ee0235
DTSTAMP:20260422T024514Z
DESCRIPTION:Please bring drinking water
DTSTART;TZID=America/Chicago:20270513T160000
DTEND;TZID=America/Chicago:20270513T170000
LOCATION:Firespring
SUMMARY:Walking Group
END:VEVENT
END:VCALENDAR
