BEGIN:VCALENDAR
VERSION:2.0
PRODID:-//phil.firespring.org//NONSGML kigkonsult.se iCalcreator 2.30.10//
CALSCALE:GREGORIAN
METHOD:PUBLISH
UID:8d3eeeca-00ab-411d-b55a-a872777f7fb7
X-WR-CALDESC:Please bring drinking water
X-WR-RELCALID:bbbf2162468ecd5d4ae06ed059dad01b
X-WR-TIMEZONE:America/Chicago
BEGIN:VTIMEZONE
TZID:America/Chicago
BEGIN:STANDARD
TZNAME:CST
DTSTART:20261101T020000
TZOFFSETFROM:-0500
TZOFFSETTO:-0600
RDATE:20271107T020000
RDATE:20281105T020000
END:STANDARD
BEGIN:DAYLIGHT
TZNAME:CDT
DTSTART:20270314T020000
TZOFFSETFROM:-0600
TZOFFSETTO:-0500
RDATE:20280312T020000
END:DAYLIGHT
END:VTIMEZONE
BEGIN:VEVENT
UID:bac35256-182f-4c20-95ce-9490dfe3f2bb
DTSTAMP:20260422T022621Z
DESCRIPTION:Please bring drinking water
DTSTART;TZID=America/Chicago:20270527T160000
DTEND;TZID=America/Chicago:20270527T170000
LOCATION:Firespring
SUMMARY:Walking Group
END:VEVENT
END:VCALENDAR
