BEGIN:VCALENDAR
VERSION:2.0
PRODID:-//phil.firespring.org//NONSGML kigkonsult.se iCalcreator 2.30.10//
CALSCALE:GREGORIAN
METHOD:PUBLISH
UID:0ba66ad2-9fd0-411b-8528-46de0a2f26ad
X-WR-CALDESC:Please bring drinking water
X-WR-RELCALID:c5ab68e190b448baccc3c5e4327295cb
X-WR-TIMEZONE:America/Chicago
BEGIN:VTIMEZONE
TZID:America/Chicago
BEGIN:STANDARD
TZNAME:CST
DTSTART:20261101T020000
TZOFFSETFROM:-0500
TZOFFSETTO:-0600
RDATE:20271107T020000
RDATE:20281105T020000
END:STANDARD
BEGIN:DAYLIGHT
TZNAME:CDT
DTSTART:20270314T020000
TZOFFSETFROM:-0600
TZOFFSETTO:-0500
RDATE:20280312T020000
END:DAYLIGHT
END:VTIMEZONE
BEGIN:VEVENT
UID:aed556af-9c58-4847-9e95-fec53dab1eee
DTSTAMP:20260422T041208Z
DESCRIPTION:Please bring drinking water
DTSTART;TZID=America/Chicago:20270603T160000
DTEND;TZID=America/Chicago:20270603T170000
LOCATION:Firespring
SUMMARY:Walking Group
END:VEVENT
END:VCALENDAR
