BEGIN:VCALENDAR
VERSION:2.0
PRODID:-//phil.firespring.org//NONSGML kigkonsult.se iCalcreator 2.30.10//
CALSCALE:GREGORIAN
METHOD:PUBLISH
UID:f60730af-e1ec-4780-9c2f-1dfeae33bc9f
X-WR-CALDESC:Please bring drinking water
X-WR-RELCALID:030bb26b5b67ce03199f33fd2e255523
X-WR-TIMEZONE:America/Chicago
BEGIN:VTIMEZONE
TZID:America/Chicago
BEGIN:STANDARD
TZNAME:CST
DTSTART:20261101T020000
TZOFFSETFROM:-0500
TZOFFSETTO:-0600
RDATE:20271107T020000
RDATE:20281105T020000
END:STANDARD
BEGIN:DAYLIGHT
TZNAME:CDT
DTSTART:20270314T020000
TZOFFSETFROM:-0600
TZOFFSETTO:-0500
RDATE:20280312T020000
END:DAYLIGHT
END:VTIMEZONE
BEGIN:VEVENT
UID:79d3c98e-4856-4156-97cf-dba8554e755a
DTSTAMP:20260422T041323Z
DESCRIPTION:Please bring drinking water
DTSTART;TZID=America/Chicago:20270617T160000
DTEND;TZID=America/Chicago:20270617T170000
LOCATION:Firespring
SUMMARY:Walking Group
END:VEVENT
END:VCALENDAR
