BEGIN:VCALENDAR
VERSION:2.0
PRODID:-//phil.firespring.org//NONSGML kigkonsult.se iCalcreator 2.30.10//
CALSCALE:GREGORIAN
METHOD:PUBLISH
UID:07dd0aa1-017a-442e-80df-c0bdc7f52aa4
X-WR-CALDESC:Please bring drinking water
X-WR-RELCALID:d83aeb9b49f686281cd7e77e6028fe03
X-WR-TIMEZONE:America/Chicago
BEGIN:VTIMEZONE
TZID:America/Chicago
BEGIN:STANDARD
TZNAME:CST
DTSTART:20261101T020000
TZOFFSETFROM:-0500
TZOFFSETTO:-0600
RDATE:20271107T020000
RDATE:20281105T020000
END:STANDARD
BEGIN:DAYLIGHT
TZNAME:CDT
DTSTART:20270314T020000
TZOFFSETFROM:-0600
TZOFFSETTO:-0500
RDATE:20280312T020000
END:DAYLIGHT
END:VTIMEZONE
BEGIN:VEVENT
UID:f59ae3f3-f7cc-46b0-9d52-494b107bc96a
DTSTAMP:20260422T041324Z
DESCRIPTION:Please bring drinking water
DTSTART;TZID=America/Chicago:20270624T160000
DTEND;TZID=America/Chicago:20270624T170000
LOCATION:Firespring
SUMMARY:Walking Group
END:VEVENT
END:VCALENDAR
