BEGIN:VCALENDAR
VERSION:2.0
PRODID:-//phil.firespring.org//NONSGML kigkonsult.se iCalcreator 2.30.10//
CALSCALE:GREGORIAN
METHOD:PUBLISH
UID:a8494c8a-bfba-4674-930b-616f57d1ba66
X-WR-CALDESC:Please bring drinking water
X-WR-RELCALID:4af9133d587590b37d2664d7b42e731a
X-WR-TIMEZONE:America/Chicago
BEGIN:VTIMEZONE
TZID:America/Chicago
BEGIN:STANDARD
TZNAME:CST
DTSTART:20261101T020000
TZOFFSETFROM:-0500
TZOFFSETTO:-0600
RDATE:20271107T020000
RDATE:20281105T020000
END:STANDARD
BEGIN:DAYLIGHT
TZNAME:CDT
DTSTART:20270314T020000
TZOFFSETFROM:-0600
TZOFFSETTO:-0500
RDATE:20280312T020000
END:DAYLIGHT
END:VTIMEZONE
BEGIN:VEVENT
UID:299b0f72-5ef4-4843-ac57-cb30ebc77480
DTSTAMP:20260422T053531Z
DESCRIPTION:Please bring drinking water
DTSTART;TZID=America/Chicago:20270701T160000
DTEND;TZID=America/Chicago:20270701T170000
LOCATION:Firespring
SUMMARY:Walking Group
END:VEVENT
END:VCALENDAR
