BEGIN:VCALENDAR
VERSION:2.0
PRODID:-//phil.firespring.org//NONSGML kigkonsult.se iCalcreator 2.30.10//
CALSCALE:GREGORIAN
METHOD:PUBLISH
UID:81111236-0688-47d9-8154-55b5881c4716
X-WR-CALDESC:Please bring drinking water
X-WR-RELCALID:5c32c9cc1c6e9cd0a37178adf3b7c4fd
X-WR-TIMEZONE:America/Chicago
BEGIN:VTIMEZONE
TZID:America/Chicago
BEGIN:STANDARD
TZNAME:CST
DTSTART:20261101T020000
TZOFFSETFROM:-0500
TZOFFSETTO:-0600
RDATE:20271107T020000
RDATE:20281105T020000
END:STANDARD
BEGIN:DAYLIGHT
TZNAME:CDT
DTSTART:20270314T020000
TZOFFSETFROM:-0600
TZOFFSETTO:-0500
RDATE:20280312T020000
END:DAYLIGHT
END:VTIMEZONE
BEGIN:VEVENT
UID:024f0736-b1d2-4ca1-b22e-29d7ffd61b72
DTSTAMP:20260422T053429Z
DESCRIPTION:Please bring drinking water
DTSTART;TZID=America/Chicago:20270715T160000
DTEND;TZID=America/Chicago:20270715T170000
LOCATION:Firespring
SUMMARY:Walking Group
END:VEVENT
END:VCALENDAR
