BEGIN:VCALENDAR
VERSION:2.0
PRODID:-//phil.firespring.org//NONSGML kigkonsult.se iCalcreator 2.30.10//
CALSCALE:GREGORIAN
METHOD:PUBLISH
UID:7870ca09-1bdf-4b8a-af0b-92485a6f2012
X-WR-CALDESC:Please bring drinking water
X-WR-RELCALID:7a23181c865e7810efbc9453ec3082c4
X-WR-TIMEZONE:America/Chicago
BEGIN:VTIMEZONE
TZID:America/Chicago
BEGIN:STANDARD
TZNAME:CST
DTSTART:20261101T020000
TZOFFSETFROM:-0500
TZOFFSETTO:-0600
RDATE:20271107T020000
RDATE:20281105T020000
END:STANDARD
BEGIN:DAYLIGHT
TZNAME:CDT
DTSTART:20270314T020000
TZOFFSETFROM:-0600
TZOFFSETTO:-0500
RDATE:20280312T020000
END:DAYLIGHT
END:VTIMEZONE
BEGIN:VEVENT
UID:0f8142dd-b686-4990-bf78-d8c02aebedea
DTSTAMP:20260422T053531Z
DESCRIPTION:Please bring drinking water
DTSTART;TZID=America/Chicago:20270722T160000
DTEND;TZID=America/Chicago:20270722T170000
LOCATION:Firespring
SUMMARY:Walking Group
END:VEVENT
END:VCALENDAR
