BEGIN:VCALENDAR
VERSION:2.0
PRODID:-//phil.firespring.org//NONSGML kigkonsult.se iCalcreator 2.30.10//
CALSCALE:GREGORIAN
METHOD:PUBLISH
UID:cb411c17-d7a6-4cbc-a2c3-732f53c15332
X-WR-CALDESC:Please bring drinking water
X-WR-RELCALID:f6ceb2321fa7e91da36a10441e1fd2c8
X-WR-TIMEZONE:America/Chicago
BEGIN:VTIMEZONE
TZID:America/Chicago
BEGIN:STANDARD
TZNAME:CST
DTSTART:20261101T020000
TZOFFSETFROM:-0500
TZOFFSETTO:-0600
RDATE:20271107T020000
RDATE:20281105T020000
END:STANDARD
BEGIN:DAYLIGHT
TZNAME:CDT
DTSTART:20270314T020000
TZOFFSETFROM:-0600
TZOFFSETTO:-0500
RDATE:20280312T020000
END:DAYLIGHT
END:VTIMEZONE
BEGIN:VEVENT
UID:4785ee00-af2d-449d-a436-13fbeca051bb
DTSTAMP:20260422T054801Z
DESCRIPTION:Please bring drinking water
DTSTART;TZID=America/Chicago:20270729T160000
DTEND;TZID=America/Chicago:20270729T170000
LOCATION:Firespring
SUMMARY:Walking Group
END:VEVENT
END:VCALENDAR
