BEGIN:VCALENDAR
VERSION:2.0
PRODID:-//phil.firespring.org//NONSGML kigkonsult.se iCalcreator 2.30.10//
CALSCALE:GREGORIAN
METHOD:PUBLISH
UID:cf91a56a-2949-4cfb-8d4f-0d38d13dcf26
X-WR-CALDESC:Join us as we celebrate our community and organize one new pro
 ject each month. Sack lunches will be provided for those that are staying 
 longer than two hours.
X-WR-RELCALID:4f69d43353fb8a085865615c845163a2
X-WR-TIMEZONE:America/Chicago
BEGIN:VTIMEZONE
TZID:America/Chicago
BEGIN:STANDARD
TZNAME:CST
DTSTART:20261101T020000
TZOFFSETFROM:-0500
TZOFFSETTO:-0600
RDATE:20271107T020000
RDATE:20281105T020000
END:STANDARD
BEGIN:DAYLIGHT
TZNAME:CDT
DTSTART:20270314T020000
TZOFFSETFROM:-0600
TZOFFSETTO:-0500
RDATE:20280312T020000
END:DAYLIGHT
END:VTIMEZONE
BEGIN:VEVENT
UID:7f8929dd-afa2-4df2-9a41-330aed202d3a
DTSTAMP:20260422T072229Z
DESCRIPTION:Join us as we celebrate our community and organize one new proj
 ect each month. Sack lunches will be provided for those that are staying l
 onger than two hours.
DTSTART;TZID=America/Chicago:20270815T090000
DTEND;TZID=America/Chicago:20270815T150000
LOCATION:City Park
SUMMARY:Community Outreach
END:VEVENT
END:VCALENDAR
