BEGIN:VCALENDAR
VERSION:2.0
PRODID:-//phil.firespring.org//NONSGML kigkonsult.se iCalcreator 2.30.10//
CALSCALE:GREGORIAN
METHOD:PUBLISH
UID:bd568d0f-8efb-4734-8a24-c0b830addfb4
X-WR-CALDESC:Please bring drinking water
X-WR-RELCALID:430c4eca4fb4c28328f72d8bced34c69
X-WR-TIMEZONE:America/Chicago
BEGIN:VTIMEZONE
TZID:America/Chicago
BEGIN:STANDARD
TZNAME:CST
DTSTART:20261101T020000
TZOFFSETFROM:-0500
TZOFFSETTO:-0600
RDATE:20271107T020000
RDATE:20281105T020000
END:STANDARD
BEGIN:DAYLIGHT
TZNAME:CDT
DTSTART:20270314T020000
TZOFFSETFROM:-0600
TZOFFSETTO:-0500
RDATE:20280312T020000
END:DAYLIGHT
END:VTIMEZONE
BEGIN:VEVENT
UID:6b70d564-f484-4d75-a2dc-06a0cbf334f9
DTSTAMP:20260422T071233Z
DESCRIPTION:Please bring drinking water
DTSTART;TZID=America/Chicago:20270819T160000
DTEND;TZID=America/Chicago:20270819T170000
LOCATION:Firespring
SUMMARY:Walking Group
END:VEVENT
END:VCALENDAR
