BEGIN:VCALENDAR
VERSION:2.0
PRODID:-//phil.firespring.org//NONSGML kigkonsult.se iCalcreator 2.30.10//
CALSCALE:GREGORIAN
METHOD:PUBLISH
UID:8135b6e5-7fee-451f-8879-c70fa6c49b29
X-WR-CALDESC:Please bring drinking water
X-WR-RELCALID:e7e9485eac28e7a92f7ae3b7d45abd12
X-WR-TIMEZONE:America/Chicago
BEGIN:VTIMEZONE
TZID:America/Chicago
BEGIN:STANDARD
TZNAME:CST
DTSTART:20261101T020000
TZOFFSETFROM:-0500
TZOFFSETTO:-0600
RDATE:20271107T020000
RDATE:20281105T020000
END:STANDARD
BEGIN:DAYLIGHT
TZNAME:CDT
DTSTART:20270314T020000
TZOFFSETFROM:-0600
TZOFFSETTO:-0500
RDATE:20280312T020000
END:DAYLIGHT
END:VTIMEZONE
BEGIN:VEVENT
UID:50299eb9-d120-4b55-8e24-573e79742ef5
DTSTAMP:20260422T071222Z
DESCRIPTION:Please bring drinking water
DTSTART;TZID=America/Chicago:20270826T160000
DTEND;TZID=America/Chicago:20270826T170000
LOCATION:Firespring
SUMMARY:Walking Group
END:VEVENT
END:VCALENDAR
