BEGIN:VCALENDAR
VERSION:2.0
PRODID:-//phil.firespring.org//NONSGML kigkonsult.se iCalcreator 2.30.10//
CALSCALE:GREGORIAN
METHOD:PUBLISH
UID:ec6b1703-becc-40e2-ad82-fc9e4ebdef97
X-WR-CALDESC:Please bring drinking water
X-WR-RELCALID:69d4fcb4eff59a7851d2c2e02d6ebae2
X-WR-TIMEZONE:America/Chicago
BEGIN:VTIMEZONE
TZID:America/Chicago
BEGIN:STANDARD
TZNAME:CST
DTSTART:20261101T020000
TZOFFSETFROM:-0500
TZOFFSETTO:-0600
RDATE:20271107T020000
RDATE:20281105T020000
END:STANDARD
BEGIN:DAYLIGHT
TZNAME:CDT
DTSTART:20270314T020000
TZOFFSETFROM:-0600
TZOFFSETTO:-0500
RDATE:20280312T020000
RDATE:20290311T020000
END:DAYLIGHT
END:VTIMEZONE
BEGIN:VEVENT
UID:b9512cdf-97cf-4dc9-8fd4-1b87582817ca
DTSTAMP:20260422T085608Z
DESCRIPTION:Please bring drinking water
DTSTART;TZID=America/Chicago:20270916T160000
DTEND;TZID=America/Chicago:20270916T170000
LOCATION:Firespring
SUMMARY:Walking Group
END:VEVENT
END:VCALENDAR
