BEGIN:VCALENDAR
VERSION:2.0
PRODID:-//phil.firespring.org//NONSGML kigkonsult.se iCalcreator 2.30.10//
CALSCALE:GREGORIAN
METHOD:PUBLISH
UID:7a2d3ef5-fe65-4c7a-8b37-bd1adac02757
X-WR-CALDESC:Please bring drinking water
X-WR-RELCALID:83c952f9e3d2cf46c54ff4eeaa739733
X-WR-TIMEZONE:America/Chicago
BEGIN:VTIMEZONE
TZID:America/Chicago
BEGIN:STANDARD
TZNAME:CST
DTSTART:20261101T020000
TZOFFSETFROM:-0500
TZOFFSETTO:-0600
RDATE:20271107T020000
RDATE:20281105T020000
END:STANDARD
BEGIN:DAYLIGHT
TZNAME:CDT
DTSTART:20270314T020000
TZOFFSETFROM:-0600
TZOFFSETTO:-0500
RDATE:20280312T020000
RDATE:20290311T020000
END:DAYLIGHT
END:VTIMEZONE
BEGIN:VEVENT
UID:2b8c6d3a-8517-4a60-8db3-cb995a102b8a
DTSTAMP:20260422T085701Z
DESCRIPTION:Please bring drinking water
DTSTART;TZID=America/Chicago:20270930T160000
DTEND;TZID=America/Chicago:20270930T170000
LOCATION:Firespring
SUMMARY:Walking Group
END:VEVENT
END:VCALENDAR
