BEGIN:VCALENDAR
VERSION:2.0
PRODID:-//phil.firespring.org//NONSGML kigkonsult.se iCalcreator 2.30.10//
CALSCALE:GREGORIAN
METHOD:PUBLISH
UID:86ba71db-b6f1-4a19-b32f-61dc979d9073
X-WR-CALDESC:Please bring drinking water
X-WR-RELCALID:bfe624a017e4251c1956b05a2de6571a
X-WR-TIMEZONE:America/Chicago
BEGIN:VTIMEZONE
TZID:America/Chicago
BEGIN:STANDARD
TZNAME:CST
DTSTART:20261101T020000
TZOFFSETFROM:-0500
TZOFFSETTO:-0600
RDATE:20271107T020000
RDATE:20281105T020000
END:STANDARD
BEGIN:DAYLIGHT
TZNAME:CDT
DTSTART:20270314T020000
TZOFFSETFROM:-0600
TZOFFSETTO:-0500
RDATE:20280312T020000
RDATE:20290311T020000
END:DAYLIGHT
END:VTIMEZONE
BEGIN:VEVENT
UID:fadbbb7a-812a-4681-96e8-c1ceabfab347
DTSTAMP:20260422T102949Z
DESCRIPTION:Please bring drinking water
DTSTART;TZID=America/Chicago:20271021T160000
DTEND;TZID=America/Chicago:20271021T170000
LOCATION:Firespring
SUMMARY:Walking Group
END:VEVENT
END:VCALENDAR
