BEGIN:VCALENDAR
VERSION:2.0
PRODID:-//phil.firespring.org//NONSGML kigkonsult.se iCalcreator 2.30.10//
CALSCALE:GREGORIAN
METHOD:PUBLISH
UID:8d8b44b3-0969-451d-8e78-084bb807f91e
X-WR-CALDESC:Please bring drinking water
X-WR-RELCALID:8d2b69799b675ce34efcecdeeaf096bb
X-WR-TIMEZONE:America/Chicago
BEGIN:VTIMEZONE
TZID:America/Chicago
BEGIN:STANDARD
TZNAME:CST
DTSTART:20271107T020000
TZOFFSETFROM:-0500
TZOFFSETTO:-0600
RDATE:20281105T020000
END:STANDARD
BEGIN:DAYLIGHT
TZNAME:CDT
DTSTART:20270314T020000
TZOFFSETFROM:-0600
TZOFFSETTO:-0500
RDATE:20280312T020000
RDATE:20290311T020000
END:DAYLIGHT
END:VTIMEZONE
BEGIN:VEVENT
UID:99459e97-3201-451a-bac2-0cdfd9886762
DTSTAMP:20260422T115000Z
DESCRIPTION:Please bring drinking water
DTSTART;TZID=America/Chicago:20271104T160000
DTEND;TZID=America/Chicago:20271104T170000
LOCATION:Firespring
SUMMARY:Walking Group
END:VEVENT
END:VCALENDAR
