BEGIN:VCALENDAR
VERSION:2.0
PRODID:-//phil.firespring.org//NONSGML kigkonsult.se iCalcreator 2.30.10//
CALSCALE:GREGORIAN
METHOD:PUBLISH
UID:653426d4-3ae7-4196-92fd-35969b82f5c0
X-WR-CALDESC:Please bring drinking water
X-WR-RELCALID:ce19c8049df916a53f952f26fb79ebcc
X-WR-TIMEZONE:America/Chicago
BEGIN:VTIMEZONE
TZID:America/Chicago
BEGIN:STANDARD
TZNAME:CST
DTSTART:20271107T020000
TZOFFSETFROM:-0500
TZOFFSETTO:-0600
RDATE:20281105T020000
END:STANDARD
BEGIN:DAYLIGHT
TZNAME:CDT
DTSTART:20270314T020000
TZOFFSETFROM:-0600
TZOFFSETTO:-0500
RDATE:20280312T020000
RDATE:20290311T020000
END:DAYLIGHT
END:VTIMEZONE
BEGIN:VEVENT
UID:3096736b-c79e-4a12-9fde-f779af5ce1bf
DTSTAMP:20260422T115204Z
DESCRIPTION:Please bring drinking water
DTSTART;TZID=America/Chicago:20271125T160000
DTEND;TZID=America/Chicago:20271125T170000
LOCATION:Firespring
SUMMARY:Walking Group
END:VEVENT
END:VCALENDAR
