BEGIN:VCALENDAR
VERSION:2.0
PRODID:-//phil.firespring.org//NONSGML kigkonsult.se iCalcreator 2.30.10//
CALSCALE:GREGORIAN
METHOD:PUBLISH
UID:803b825a-ddfa-49f9-937c-9fb9db8fe6b3
X-WR-CALDESC:Please bring drinking water
X-WR-RELCALID:9058f161a6f58c6c38386b6a124eb387
X-WR-TIMEZONE:America/Chicago
BEGIN:VTIMEZONE
TZID:America/Chicago
BEGIN:STANDARD
TZNAME:CST
DTSTART:20271107T020000
TZOFFSETFROM:-0500
TZOFFSETTO:-0600
RDATE:20281105T020000
END:STANDARD
BEGIN:DAYLIGHT
TZNAME:CDT
DTSTART:20270314T020000
TZOFFSETFROM:-0600
TZOFFSETTO:-0500
RDATE:20280312T020000
RDATE:20290311T020000
END:DAYLIGHT
END:VTIMEZONE
BEGIN:VEVENT
UID:6ec981a4-f436-408f-ad1b-31dea70afb74
DTSTAMP:20260422T133554Z
DESCRIPTION:Please bring drinking water
DTSTART;TZID=America/Chicago:20271202T160000
DTEND;TZID=America/Chicago:20271202T170000
LOCATION:Firespring
SUMMARY:Walking Group
END:VEVENT
END:VCALENDAR
