BEGIN:VCALENDAR
VERSION:2.0
PRODID:-//phil.firespring.org//NONSGML kigkonsult.se iCalcreator 2.30.10//
CALSCALE:GREGORIAN
METHOD:PUBLISH
UID:5921b296-8e07-426f-a149-52277f6fe18c
X-WR-CALDESC:Please bring drinking water
X-WR-RELCALID:32b4a06d4d03eef2bcebe646a0cae517
X-WR-TIMEZONE:America/Chicago
BEGIN:VTIMEZONE
TZID:America/Chicago
BEGIN:STANDARD
TZNAME:CST
DTSTART:20271107T020000
TZOFFSETFROM:-0500
TZOFFSETTO:-0600
RDATE:20281105T020000
END:STANDARD
BEGIN:DAYLIGHT
TZNAME:CDT
DTSTART:20270314T020000
TZOFFSETFROM:-0600
TZOFFSETTO:-0500
RDATE:20280312T020000
RDATE:20290311T020000
END:DAYLIGHT
END:VTIMEZONE
BEGIN:VEVENT
UID:f5fa1042-d5b9-43eb-ab65-4d5cd8d15083
DTSTAMP:20260422T133532Z
DESCRIPTION:Please bring drinking water
DTSTART;TZID=America/Chicago:20271216T160000
DTEND;TZID=America/Chicago:20271216T170000
LOCATION:Firespring
SUMMARY:Walking Group
END:VEVENT
END:VCALENDAR
