BEGIN:VCALENDAR
VERSION:2.0
PRODID:-//phil.firespring.org//NONSGML kigkonsult.se iCalcreator 2.30.10//
CALSCALE:GREGORIAN
METHOD:PUBLISH
UID:8a5cb07d-5d7b-457e-a5c4-b2d0f45453cc
X-WR-CALDESC:Please bring drinking water
X-WR-RELCALID:db2244a902a09f639a347257a63e516f
X-WR-TIMEZONE:America/Chicago
BEGIN:VTIMEZONE
TZID:America/Chicago
BEGIN:STANDARD
TZNAME:CST
DTSTART:20271107T020000
TZOFFSETFROM:-0500
TZOFFSETTO:-0600
RDATE:20281105T020000
END:STANDARD
BEGIN:DAYLIGHT
TZNAME:CDT
DTSTART:20270314T020000
TZOFFSETFROM:-0600
TZOFFSETTO:-0500
RDATE:20280312T020000
RDATE:20290311T020000
END:DAYLIGHT
END:VTIMEZONE
BEGIN:VEVENT
UID:a4fc6549-68ee-4fa4-b311-6b9fbddeb202
DTSTAMP:20260422T133450Z
DESCRIPTION:Please bring drinking water
DTSTART;TZID=America/Chicago:20271223T160000
DTEND;TZID=America/Chicago:20271223T170000
LOCATION:Firespring
SUMMARY:Walking Group
END:VEVENT
END:VCALENDAR
