BEGIN:VCALENDAR
VERSION:2.0
PRODID:-//phil.firespring.org//NONSGML kigkonsult.se iCalcreator 2.30.10//
CALSCALE:GREGORIAN
METHOD:PUBLISH
UID:5a946a23-fa98-4070-b485-fc12e31e6623
X-WR-CALDESC:Please bring drinking water
X-WR-RELCALID:bd27c08ae20bbb6807138bbe65e911a7
X-WR-TIMEZONE:America/Chicago
BEGIN:VTIMEZONE
TZID:America/Chicago
BEGIN:STANDARD
TZNAME:CST
DTSTART:20271107T020000
TZOFFSETFROM:-0500
TZOFFSETTO:-0600
RDATE:20281105T020000
END:STANDARD
BEGIN:DAYLIGHT
TZNAME:CDT
DTSTART:20270314T020000
TZOFFSETFROM:-0600
TZOFFSETTO:-0500
RDATE:20280312T020000
RDATE:20290311T020000
END:DAYLIGHT
END:VTIMEZONE
BEGIN:VEVENT
UID:a3163fbb-e570-4ec0-9563-ecd64c3a1f16
DTSTAMP:20260422T134621Z
DESCRIPTION:Please bring drinking water
DTSTART;TZID=America/Chicago:20271230T160000
DTEND;TZID=America/Chicago:20271230T170000
LOCATION:Firespring
SUMMARY:Walking Group
END:VEVENT
END:VCALENDAR
