BEGIN:VCALENDAR
VERSION:2.0
PRODID:-//phil.firespring.org//NONSGML kigkonsult.se iCalcreator 2.30.10//
CALSCALE:GREGORIAN
METHOD:PUBLISH
UID:9752a94a-0b87-40e9-aaff-bae81fbfb154
X-WR-CALDESC:Please bring drinking water
X-WR-RELCALID:20efcc2d99121ca6ce786b665f3963f1
X-WR-TIMEZONE:America/Chicago
BEGIN:VTIMEZONE
TZID:America/Chicago
BEGIN:STANDARD
TZNAME:CST
DTSTART:20271107T020000
TZOFFSETFROM:-0500
TZOFFSETTO:-0600
RDATE:20281105T020000
END:STANDARD
BEGIN:DAYLIGHT
TZNAME:CDT
DTSTART:20270314T020000
TZOFFSETFROM:-0600
TZOFFSETTO:-0500
RDATE:20280312T020000
RDATE:20290311T020000
END:DAYLIGHT
END:VTIMEZONE
BEGIN:VEVENT
UID:3ee8d9e3-def9-4fda-a7ac-0e24297a5053
DTSTAMP:20260422T164843Z
DESCRIPTION:Please bring drinking water
DTSTART;TZID=America/Chicago:20280203T160000
DTEND;TZID=America/Chicago:20280203T170000
LOCATION:Firespring
SUMMARY:Walking Group
END:VEVENT
END:VCALENDAR
