BEGIN:VCALENDAR
VERSION:2.0
PRODID:-//phil.firespring.org//NONSGML kigkonsult.se iCalcreator 2.30.10//
CALSCALE:GREGORIAN
METHOD:PUBLISH
UID:75a8c793-f9d5-406b-b0c2-97d710bbc42a
X-WR-CALDESC:Please bring drinking water
X-WR-RELCALID:1b28b985ee4fcf57e21eb4e1605b0193
X-WR-TIMEZONE:America/Chicago
BEGIN:VTIMEZONE
TZID:America/Chicago
BEGIN:STANDARD
TZNAME:CST
DTSTART:20271107T020000
TZOFFSETFROM:-0500
TZOFFSETTO:-0600
RDATE:20281105T020000
END:STANDARD
BEGIN:DAYLIGHT
TZNAME:CDT
DTSTART:20270314T020000
TZOFFSETFROM:-0600
TZOFFSETTO:-0500
RDATE:20280312T020000
RDATE:20290311T020000
END:DAYLIGHT
END:VTIMEZONE
BEGIN:VEVENT
UID:611e2099-81a4-4f65-aea6-e667930f10f9
DTSTAMP:20260422T170903Z
DESCRIPTION:Please bring drinking water
DTSTART;TZID=America/Chicago:20280210T160000
DTEND;TZID=America/Chicago:20280210T170000
LOCATION:Firespring
SUMMARY:Walking Group
END:VEVENT
END:VCALENDAR
