BEGIN:VCALENDAR
VERSION:2.0
PRODID:-//phil.firespring.org//NONSGML kigkonsult.se iCalcreator 2.30.10//
CALSCALE:GREGORIAN
METHOD:PUBLISH
UID:19b49939-a5d7-4b05-a3d2-310f4e26b043
X-WR-CALDESC:Please bring drinking water
X-WR-RELCALID:43228cba44572516f9ef41e3b6b8887e
X-WR-TIMEZONE:America/Chicago
BEGIN:VTIMEZONE
TZID:America/Chicago
BEGIN:STANDARD
TZNAME:CST
DTSTART:20271107T020000
TZOFFSETFROM:-0500
TZOFFSETTO:-0600
RDATE:20281105T020000
END:STANDARD
BEGIN:DAYLIGHT
TZNAME:CDT
DTSTART:20270314T020000
TZOFFSETFROM:-0600
TZOFFSETTO:-0500
RDATE:20280312T020000
RDATE:20290311T020000
END:DAYLIGHT
END:VTIMEZONE
BEGIN:VEVENT
UID:be8122ef-4554-469d-a6a9-c21c7fe8da69
DTSTAMP:20260422T164506Z
DESCRIPTION:Please bring drinking water
DTSTART;TZID=America/Chicago:20280217T160000
DTEND;TZID=America/Chicago:20280217T170000
LOCATION:Firespring
SUMMARY:Walking Group
END:VEVENT
END:VCALENDAR
