BEGIN:VCALENDAR
VERSION:2.0
PRODID:-//phil.firespring.org//NONSGML kigkonsult.se iCalcreator 2.30.10//
CALSCALE:GREGORIAN
METHOD:PUBLISH
UID:e40c8b75-8bd9-47a4-8ad6-a571eecfd64d
X-WR-CALDESC:Please bring drinking water
X-WR-RELCALID:2915aba736eba8b7f663b1cafb4bba52
X-WR-TIMEZONE:America/Chicago
BEGIN:VTIMEZONE
TZID:America/Chicago
BEGIN:STANDARD
TZNAME:CST
DTSTART:20271107T020000
TZOFFSETFROM:-0500
TZOFFSETTO:-0600
RDATE:20281105T020000
END:STANDARD
BEGIN:DAYLIGHT
TZNAME:CDT
DTSTART:20270314T020000
TZOFFSETFROM:-0600
TZOFFSETTO:-0500
RDATE:20280312T020000
RDATE:20290311T020000
END:DAYLIGHT
END:VTIMEZONE
BEGIN:VEVENT
UID:f87da2a5-a939-4e8c-a53e-b5b6b8d49dc2
DTSTAMP:20260422T181904Z
DESCRIPTION:Please bring drinking water
DTSTART;TZID=America/Chicago:20280309T160000
DTEND;TZID=America/Chicago:20280309T170000
LOCATION:Firespring
SUMMARY:Walking Group
END:VEVENT
END:VCALENDAR
