BEGIN:VCALENDAR
VERSION:2.0
PRODID:-//phil.firespring.org//NONSGML kigkonsult.se iCalcreator 2.30.10//
CALSCALE:GREGORIAN
METHOD:PUBLISH
UID:b6ae6510-abed-4ce8-909a-6506452d32ff
X-WR-CALDESC:Please bring drinking water
X-WR-RELCALID:88a03a6f465fe791af2a0b621095a7c3
X-WR-TIMEZONE:America/Chicago
BEGIN:VTIMEZONE
TZID:America/Chicago
BEGIN:STANDARD
TZNAME:CST
DTSTART:20271107T020000
TZOFFSETFROM:-0500
TZOFFSETTO:-0600
RDATE:20281105T020000
END:STANDARD
BEGIN:DAYLIGHT
TZNAME:CDT
DTSTART:20280312T020000
TZOFFSETFROM:-0600
TZOFFSETTO:-0500
RDATE:20290311T020000
END:DAYLIGHT
END:VTIMEZONE
BEGIN:VEVENT
UID:5ed938c5-60b8-416f-9999-7c1a996dc97c
DTSTAMP:20260422T181603Z
DESCRIPTION:Please bring drinking water
DTSTART;TZID=America/Chicago:20280323T160000
DTEND;TZID=America/Chicago:20280323T170000
LOCATION:Firespring
SUMMARY:Walking Group
END:VEVENT
END:VCALENDAR
