BEGIN:VCALENDAR
VERSION:2.0
PRODID:-//phil.firespring.org//NONSGML kigkonsult.se iCalcreator 2.30.10//
CALSCALE:GREGORIAN
METHOD:PUBLISH
UID:3b019266-efc6-4c5d-9b7e-59176cdbc52d
X-WR-CALDESC:Please bring drinking water
X-WR-RELCALID:54ba58157f7edac36cd3ac8344042626
X-WR-TIMEZONE:America/Chicago
BEGIN:VTIMEZONE
TZID:America/Chicago
BEGIN:STANDARD
TZNAME:CST
DTSTART:20271107T020000
TZOFFSETFROM:-0500
TZOFFSETTO:-0600
RDATE:20281105T020000
END:STANDARD
BEGIN:DAYLIGHT
TZNAME:CDT
DTSTART:20280312T020000
TZOFFSETFROM:-0600
TZOFFSETTO:-0500
RDATE:20290311T020000
END:DAYLIGHT
END:VTIMEZONE
BEGIN:VEVENT
UID:bf092791-6893-4f7e-99eb-712ff807ee24
DTSTAMP:20260422T195808Z
DESCRIPTION:Please bring drinking water
DTSTART;TZID=America/Chicago:20280413T160000
DTEND;TZID=America/Chicago:20280413T170000
LOCATION:Firespring
SUMMARY:Walking Group
END:VEVENT
END:VCALENDAR
