BEGIN:VCALENDAR
VERSION:2.0
PRODID:-//phil.firespring.org//NONSGML kigkonsult.se iCalcreator 2.30.10//
CALSCALE:GREGORIAN
METHOD:PUBLISH
UID:c4935e97-b9ee-4ba4-b4aa-8aeb9e70d97b
X-WR-CALDESC:Please bring drinking water
X-WR-RELCALID:f3187a520ff4dce1f2b965696d2b7b8e
X-WR-TIMEZONE:America/Chicago
BEGIN:VTIMEZONE
TZID:America/Chicago
BEGIN:STANDARD
TZNAME:CST
DTSTART:20271107T020000
TZOFFSETFROM:-0500
TZOFFSETTO:-0600
RDATE:20281105T020000
END:STANDARD
BEGIN:DAYLIGHT
TZNAME:CDT
DTSTART:20280312T020000
TZOFFSETFROM:-0600
TZOFFSETTO:-0500
RDATE:20290311T020000
END:DAYLIGHT
END:VTIMEZONE
BEGIN:VEVENT
UID:645a1b8c-8f0c-4e9d-9ff7-b795901fd1da
DTSTAMP:20260422T203000Z
DESCRIPTION:Please bring drinking water
DTSTART;TZID=America/Chicago:20280427T160000
DTEND;TZID=America/Chicago:20280427T170000
LOCATION:Firespring
SUMMARY:Walking Group
END:VEVENT
END:VCALENDAR
