BEGIN:VCALENDAR
VERSION:2.0
PRODID:-//phil.firespring.org//NONSGML kigkonsult.se iCalcreator 2.30.10//
CALSCALE:GREGORIAN
METHOD:PUBLISH
UID:7743510e-b441-4abd-914f-cb0d9517eca2
X-WR-CALDESC:Please bring drinking water
X-WR-RELCALID:35f8d49f0fdeced3fb15c95b4efd5d31
X-WR-TIMEZONE:America/Chicago
BEGIN:VTIMEZONE
TZID:America/Chicago
BEGIN:STANDARD
TZNAME:CST
DTSTART:20271107T020000
TZOFFSETFROM:-0500
TZOFFSETTO:-0600
RDATE:20281105T020000
RDATE:20291104T020000
END:STANDARD
BEGIN:DAYLIGHT
TZNAME:CDT
DTSTART:20280312T020000
TZOFFSETFROM:-0600
TZOFFSETTO:-0500
RDATE:20290311T020000
END:DAYLIGHT
END:VTIMEZONE
BEGIN:VEVENT
UID:2ba636bf-3921-4016-b50d-6c2807242223
DTSTAMP:20260422T214115Z
DESCRIPTION:Please bring drinking water
DTSTART;TZID=America/Chicago:20280518T160000
DTEND;TZID=America/Chicago:20280518T170000
LOCATION:Firespring
SUMMARY:Walking Group
END:VEVENT
END:VCALENDAR
