BEGIN:VCALENDAR
VERSION:2.0
PRODID:-//phil.firespring.org//NONSGML kigkonsult.se iCalcreator 2.30.10//
CALSCALE:GREGORIAN
METHOD:PUBLISH
UID:268b71d6-dea4-428e-90a1-768f4e08c60a
X-WR-CALDESC:Please bring drinking water
X-WR-RELCALID:071eb9019b6dde6cdf9ad9f21d2a9bca
X-WR-TIMEZONE:America/Chicago
BEGIN:VTIMEZONE
TZID:America/Chicago
BEGIN:STANDARD
TZNAME:CST
DTSTART:20271107T020000
TZOFFSETFROM:-0500
TZOFFSETTO:-0600
RDATE:20281105T020000
RDATE:20291104T020000
END:STANDARD
BEGIN:DAYLIGHT
TZNAME:CDT
DTSTART:20280312T020000
TZOFFSETFROM:-0600
TZOFFSETTO:-0500
RDATE:20290311T020000
END:DAYLIGHT
END:VTIMEZONE
BEGIN:VEVENT
UID:9fe71bd5-086a-4ece-987b-633011a53478
DTSTAMP:20260424T095755Z
DESCRIPTION:Please bring drinking water
DTSTART;TZID=America/Chicago:20280525T160000
DTEND;TZID=America/Chicago:20280525T170000
LOCATION:Firespring
SUMMARY:Walking Group
END:VEVENT
END:VCALENDAR
